BEGIN:VCALENDAR
VERSION:2.0
PRODID:-//hacksw/handcal//NONSGML v1.0//EN
BEGIN:VEVENT
DTSTART:20260424T125533Z
DTEND:20260424T125533Z
SUMMARY:Northern Liberties Restaurant Week
DESCRIPTION:Calling all foodies&#8230;Northern Liberties Restaurant Week returns April 1st-10th, 2022!  Enjoy special lunch and dinner deals from a wide array of neighborhood favorites, such as: Anejo Apricot Stone Baan Thai Thai Cuisine Bagels &amp; Co Bourbon &amp; Branch Cantina Dos Segundos El Camino Real Figo Pizzeria Figo Ristorante Hello Vietnam Asian Bistro Heritage Jerry&#8217;s Bar [&hellip;]
URL;VALUE=URI:
END:VEVENT
END:VCALENDAR
