BEGIN:VCALENDAR
VERSION:2.0
PRODID:-//hacksw/handcal//NONSGML v1.0//EN
BEGIN:VEVENT
DTSTART:20260420T125505Z
DTEND:20260420T125505Z
SUMMARY:Northern Liberties Night Market
DESCRIPTION:Northern Liberties Night Market returns on Thursday, May 26th, from 5pm to 9pm, on N. 2nd Street between Fairmount and Poplar Streets. Look for dozens of food trucks, shopping vendors, sidewalk cafes, entertainment, family fun, live music, street performers, and fun surprises. The festival is free to attend and food/drink are pay-as-you-go. &nbsp;
URL;VALUE=URI:
END:VEVENT
END:VCALENDAR
