BEGIN:VCALENDAR
VERSION:2.0
PRODID:-//hacksw/handcal//NONSGML v1.0//EN
BEGIN:VEVENT
DTSTART:20260421T065244Z
DTEND:20260421T065244Z
SUMMARY:Vegan Dinner &#038; Cheese Tasting at The Abbaye
DESCRIPTION:The Abbaye is teaming up with Philly’s favorite vegan cheese makers @ladybugphiladelphia to make you a five-course dinner featuring their cheeses paired with a tasting of wine or beer for $65. Get your tickets now at abbaye.net/events. &nbsp;
URL;VALUE=URI:
END:VEVENT
END:VCALENDAR
