BEGIN:VCALENDAR
VERSION:2.0
PRODID:-//hacksw/handcal//NONSGML v1.0//EN
BEGIN:VEVENT
DTSTART:20260421T050808Z
DTEND:20260421T050808Z
SUMMARY:TD Bank is Opening in NoLibs | 5th &#038; Spring Garden
DESCRIPTION:TD Bank is thrilled to meet their new neighbors in Northern Liberties and invite you to celebrate with them July 12 &#8211; July 18. &nbsp; Enjoy daily surprises, including games, prizes, a special drawing for a VIP experience at the Mann* and more each day. While you&#8217;re there, check out their special limited time opening [&hellip;]
URL;VALUE=URI:
END:VEVENT
END:VCALENDAR
