BEGIN:VCALENDAR
VERSION:2.0
PRODID:-//hacksw/handcal//NONSGML v1.0//EN
BEGIN:VEVENT
DTSTART:20260423T051314Z
DTEND:20260423T051314Z
SUMMARY:El Camino Real Holiday Dinners To-Go (Xmas Eve, XMas, NYE)
DESCRIPTION:&nbsp; Order to-go holiday dinners for XMas Eve, XMas, and NYE from El Camino! XMAS cutoff is 12/23, NYE cutoff is 12/29 to order.
URL;VALUE=URI:
END:VEVENT
END:VCALENDAR
